Workbook

Sheet Сведения о фин-ии
G1: Приложение к постановлению Администрации
G2: муниципального образования "город
G3: Десногорск" Смоленской области от
G4: __28.07.2026_____________ № __724__
B6: Раздел 6 «Сведения о финансировании структурных элементов муниципальной программы»
B7: СВЕДЕНИЯ о финансировании структурных элементов муниципальной программы
B8: «Развитие образования в муниципальном образовании «город Десногорск» Смоленской области»
B9: (наименование муниципальной программы)
B11: № п/п | C11: Наименование | D11: Участник муниципальной программы | E11: Источник финансового обеспечения (расшифро-вать) | F11: Объем средств на реализацию муниципальной программы на очередной финансовый год и плановый период (тыс. рублей)
F12: всего | G12: очередной финансовый год 2026 | H12: 1-й год планового периода 2027 | I12: 2-й год планового периода 2028
B13: 1 | C13: 2 | D13: 3 | E13: 4 | F13: 5 | G13: 6 | H13: 7 | I13: 8
C14: Региональный проект "Все лучшее детям" | D14: х | E14: х | F14: х | G14: х | H14: х | I14: х
C15: Результат 1 Увеличение численности детей, обучающихся по предметным областям "Физика", "Музыка", "Изобразительное искусство" на обновленной материально-технической базе | D15: х | E15: х | F15: х | G15: х | H15: х | I15: х
C16: Мероприятие 1.1.Оснащение предметных кабинетов общеобразовательных организаций средствами обучения и воспитания | D16: Муниципальные бюджетные образовательные учреждения | E16: Федеральный бюджет | F16: =G16+H16+I16 -> 0 | G16: 0 | H16: 0 | I16: 0
E17: Областной бюджет | F17: =G17+H17+I17 -> 0 | G17: 0 | H17: 0 | I17: 0
E18: Местный бюджет | F18: =G18+H18+I18 -> 0 | G18: 0 | H18: 0 | I18: 0
C19: Мероприятие 1.2. Мероприятия по модернизации школьных систем образования | E19: Федеральный бюджет | F19: =G19+H19+I19 -> 106663.4 | G19: 13766.7 | H19: 92896.7 | I19: 0
E20: Областной бюджет | F20: =G20+H20+I20 -> 27426.4 | G20: 4202.2 | H20: 23224.2 | I20: 0
E21: Местный бюджет | F21: =G21+H21+I21 -> 134.1 | G21: 17.9 | H21: 116.2 | I21: 0
C22: Мероприятие 1.3. Капитальный ремонт зданий муниципальных образовательных организаций в рамках модернизации школьных систем образования | E22: Областной бюджет | F22: =G22+H22+I22 -> 16973.2 | G22: 8486.6 | H22: 8486.6 | I22: 0
E23: Местный бюджет | F23: =G23+H23+I23 -> 893.4 | G23: 446.7 | H23: 446.7 | I23: 0
C24: Мероприятие 1.4. Оснащение общеобразовательных организаций оборудованием, средствами обучения и воспитания | E24: Областной бюджет | F24: =G24+H24+I24 -> 3563.7 | G24: 1187.9 | H24: 1187.9 | I24: 1187.9
E25: Местный бюджет | F25: =G25 -> 62.5 | G25: 62.5 | H25: 62.5 | I25: 62.5
C26: Региональный проект "Педагоги и наставники" | D26: х | E26: х | F26: х | G26: х | H26: х | I26: х
C27: Результат 1 Проведение мероприятий по обеспечению деятельности советников директора по воспитанию и взаимодействию с детскими общественными объединениями в общеобразовательных организациях | D27: х | E27: х | F27: х | G27: х | H27: х | I27: х
C28: Мероприятие 1.1. Выплаты ежемесячного денежного вознаграждения советникам директоров по воспитанию и взаимодействию с детскими общественными объединениями образовательных организаций | D28: Муниципальные бюджетные образовательные учреждения | E28: Федеральный бюджет | F28: =G28+H28+I28 -> 937.5 | G28: 312.5 | H28: 312.5 | I28: 312.5
C29: Мероприятие 1.2. Обеспечение деятельности советников директора по воспитанию и взаимодействию с детскими общественными объединениями в общеобразовательных организациях | E29: Федеральный бюджет | F29: =G29+H29+I29 -> 3010.1 | G29: 985.6 | H29: 1006 | I29: 1018.5
E30: Областной бюджет | F30: =G30+H30+I30 -> 114.7 | G30: 30.4 | H30: 41.9 | I30: 42.4
C31: Мероприятие 1.3 Ежемесячное денежное вознаграждение за классное руководство педагогическим работникам государственных и муниципальных общеобразовательных организаций | E31: Федеральный бюджет | F31: =G31+H31+I31 -> 54300 | G31: 18100 | H31: 18100 | I31: 18100
C32: Итого по региональному проекту | D32: х | E32: х | F32: =G32+H32+I32 -> 214204 | G32: =G28+G29+G30+G31+G19+G20+G21+G22+G23+G24+G25 -> 47599 | H32: =H28+H29+H30+H31+H19+H20+H21+H22+H23+H24+H25 -> 145881.2 | I32: =I24+I25+I28+I29+I30+I31 -> 20723.8
B33: 2. | C33: Ведомственный проект | D33: х | E33: х | F33: х | G33: х | H33: х | I33: х
C34: Результат 1 | D34: х | E34: х | F34: х | G34: х | H34: х | I34: х
C35: Мероприятие 1.1. | D35: х | E35: х | F35: х | G35: х | H35: х | I35: х
B36: Итого по ведомственному проекту | D36: х | E36: х | F36: х | G36: х | H36: х | I36: х
B37: 3. | C37: Комплекс процессных мероприятий 1. "Развитие эффективных форм работы с семьями" | D37: х | E37: х | F37: х | G37: х | H37: х | I37: х
A38: #214 | C38: Мероприятие 1 Выплаты денежных средств на содержание ребенка, переданного на воспитание в приемную семью | D38: Управление образования г.Десногорска | E38: Областной бюджет | F38: =G38+H38+I38 -> 15103.8 | G38: 5034.6 | H38: 5034.6 | I38: 5034.6
A39: #215 | C39: Мероприятие 2 Выплаты вознаграждения, причитающегося приемным родителям | E39: Областной бюджет | F39: =G39+H39+I39 -> 4961.1 | G39: 1653.7 | H39: 1653.7 | I39: 1653.7
A40: #205 | C40: Мероприятие 3 Выплаты ежемесячных денежных средств на содержание ребенка, находящегося под опекой (попечительством) | E40: Областной бюджет | F40: =G40+H40+I40 -> 12406.5 | G40: 4135.5 | H40: 4135.5 | I40: 4135.5
B41: Итого по комплексу процессных мероприятий | D41: х | E41: х | F41: =SUM(F38:F40) -> 32471.4 | G41: =SUM(G38:G40) -> 10823.8 | H41: =SUM(H38:H40) -> 10823.8 | I41: =SUM(I38:I40) -> 10823.8
B42: 4. | C42: Комплекс процессных мероприятий 2. "Организация и осуществление деятельности по опеке и попечительству" | D42: х | E42: х | F42: х | G42: х | H42: х | I42: х
A43: #217 | C43: Мероприятие 1 Расходы на организацию и осуществление деятельности по опеке и попечительству | D43: Управление образования г.Десногорска | E43: Областной бюджет | F43: =G43+H43+I43 -> 8142.7 | G43: 2520.9 | H43: 2715.1 | I43: 2906.7
B44: Итого по комплексу процессных мероприятий | D44: х | E44: х | F44: =SUM(F43) -> 8142.7 | G44: =SUM(G43) -> 2520.9 | H44: =SUM(H43) -> 2715.1 | I44: =SUM(I43) -> 2906.7
B45: 5. | C45: Комплекс процессных мероприятий 3. "Культурно-массовые мероприятия" | D45: х | E45: х | F45: х | G45: х | H45: х | I45: х
C46: Мероприятие 1 Организация и проведение мероприятий культурно-массового характера в области образования | D46: Управление образования г.Десногорска | E46: Местный бюджет | F46: =G46+H46+I46 -> 562.8 | G46: 417.6 | H46: 72.6 | I46: 72.6
B47: Итого по комплексу процессных мероприятий | F47: =F46 -> 562.8 | G47: =G46 -> 417.6 | H47: =H46 -> 72.6 | I47: =I46 -> 72.6
B48: 6. | C48: Комплекс процессных мероприятий 4. "Развитие дошкольного образования" | D48: х | E48: х | F48: х | G48: х | H48: х | I48: х
C49: Мероприятие 1 Расходы на обеспечение деятельности муниципальных учреждений | D49: Муниципальные бюджетные дошкольные образовательные учреждения | E49: Местный бюджет | F49: =G49+H49+I49 -> 414501.7 | G49: 141465.9 | H49: 134077.5 | I49: 138958.3
C50: Мероприятие 2 Расходы на укрепление материально-технической базы муниципальных учреждений | E50: Местный бюджет | F50: =G50+H50+I50 -> 595.1 | G50: 517.1 | H50: 39 | I50: 39
C51: Мероприятие 3 Обеспечение государственных гарантий реализации прав на получение общедоступного и бесплатного дошкольного образования | E51: Областной бюджет | F51: =G51+H51+I51 -> 363808.6 | G51: 113522.5 | H51: 120769.9 | I51: 129516.2
B52: Итого по комплексу процессных мероприятий | D52: х | E52: х | F52: =SUM(F49:F51) -> 778905.4 | G52: =SUM(G49:G51) -> 255505.5 | H52: =SUM(H49:H51) -> 254886.4 | I52: =SUM(I49:I51) -> 268513.5
B53: 7. | C53: Комплекс процессных мероприятий 5. "Развитие общего образования" | D53: х | E53: х | F53: х | G53: х | H53: х | I53: х
C54: Мероприятие 1 Расходы на обеспечение деятельности муниципальных учреждений | D54: Муниципальные бюджетные образовательные учреждения | E54: Местный бюджет | F54: =G54+H54+I54 -> 71769.5 | G54: 28331 | H54: 20439.9 | I54: 22998.6
C55: Мероприятие 2 Расходы на укрепление материально-технической базы муниципальных учреждений | E55: Местный бюджет | F55: =G55+H55+I55 -> 2289.7 | G55: 2177.3 | H55: 56.2 | I55: 56.2
C56: Мероприятие 3 Обеспечение государственных гарантий реализации прав на получение общедоступного и бесплатного начального общего, основного общего, среднего общего образования | E56: Областной бюджет | F56: =G56+H56+I56 -> 612899.9 | G56: 190743.5 | H56: 204090.2 | I56: 218066.2
C57: Мероприятие 4 Обеспечение условий для функционирования центров "Точка роста" | E57: Областной бюджет | F57: =G57+H57+I57 -> 840 | G57: 280 | H57: 280 | I57: 280
E58: Местный бюджет | F58: =G58+H58+I58 -> 44.1 | G58: 14.7 | H58: 14.7 | I58: 14.7
B59: Итого по комплексу процессных мероприятий | D59: х | E59: х | F59: =F54+F55+F56+F57+F58 -> 687843.2 | G59: =G54+G55+G56+G57+G58 -> 221546.5 | H59: =H54+H55+H56+H57+H58 -> 224881 | I59: =I54+I55+I56+I57+I58 -> 241415.7
B60: 8. | C60: Комплекс процессных мероприятий 6. "Вознаграждение за выполнение функций классного руководителя" | D60: х | E60: х | F60: х | G60: х | H60: х | I60: х
C61: Мероприятие 1 Выплата вознаграждения за выполнение функций классного руководителя | D61: х | E61: Областной бюджет | F61: =G61+H61+I61 -> 4869.3 | G61: 1623.1 | H61: 1623.1 | I61: 1623.1
B62: Итого по комплексу процессных мероприятий | D62: х | E62: х | F62: =F61 -> 4869.3 | G62: =G61 -> 1623.1 | H62: =H61 -> 1623.1 | I62: =I61 -> 1623.1
B63: 9. | C63: Комплекс процессных мероприятий 7. "Обеспечение бесплатным горячим питанием обучающихся в муниципальных образовательных организациях" | D63: х | E63: х | F63: х | G63: х | H63: х | I63: х
C64: Мероприятие 1. Обеспечение обучающихся, получающих начальное общее образование в муниципальных образовательных организациях бесплатным горячим питанием | D64: Муниципальные бюджетные образовательные учреждения | E64: Федеральный бюджет | F64: =G64+H64+I64 -> 34684.6 | G64: 12386.6 | H64: 11054.1 | I64: 11243.9
E65: Областной бюджет | F65: =G65+H65+I65 -> 8658 | G65: 2905.5 | H65: 2763.6 | I65: 2988.9
E66: Местный бюджет | F66: =G66+H66+I66 -> 437.9 | G66: 154.5 | H66: 139.6 | I66: 143.8
B67: Итого по комплексу процессных мероприятий | D67: х | E67: х | F67: =F64+F65+F66 -> 43780.5 | G67: =G64+G65+G66 -> 15446.6 | H67: =H64+H65+H66 -> 13957.3 | I67: =I64+I65+I66 -> 14376.6
B68: 10. | C68: Комплекс процессных мероприятий 8. "Развитие системы дополнительного образования" | D68: Х | E68: Х | F68: Х | G68: Х | H68: Х | I68: Х
C69: Мероприятие 1 Расходы на обеспечение деятельности муниципальных учреждений | D69: МБУДО «ДДТ» г. Десногорска | E69: Местный бюджет | F69: =G69+H69+I69 -> 31197.8 | G69: 11441.6 | H69: 10049.4 | I69: 9706.8
D70: МБУДО «Десногорская ДМШ имени М.И.Глинки», МБУДО «Десногорская ДХШ», МБУДО "Спортивная школа", МБУДО "ДДТ" г. Десногорска | E70: Местный бюджет | F70: =G70+H70+I70 -> 136191.4 | G70: 45901.8 | H70: 44727.9 | I70: 45561.7
C71: Мероприятие 2 Расходы на укрепление материально-технической базы муниципальных учреждений | E71: Местный бюджет | F71: =G71+H71+I71 -> 153.7 | G71: 135.1 | H71: 9.3 | I71: 9.3
C72: Мероприятие 3 Расходы на оказание муниципальных услуг в социальной сфере в соответствии с социальным сертификатом в рамках функционирования модели персонифицированного финансирования дополнительного образования | D72: МБУДО «ДДТ» г. Десногорска | E72: Местный бюджет | F72: =G72+H72+I72 -> 27456.6 | G72: 8452.7 | H72: 9327.9 | I72: 9676
B73: Итого по комплексу процессных мероприятий | D73: х | E73: х | F73: =SUM(F69:F72) -> 194999.5 | G73: =SUM(G69:G72) -> 65931.2 | H73: =SUM(H69:H72) -> 64114.5 | I73: =SUM(I69:I72) -> 64953.8
B74: 11. | C74: Комплекс процессных мероприятий 10. "Организация отдыха и оздоровления детей и подростков" | D74: х | E74: х | F74: х | G74: х | H74: х | I74: х
C75: Мероприятие 1 Расходы на организацию отдыха детей в каникулярное время в лагерях дневного пребывания, организованных на базе муниципальных образовательных организаций, реализующих образовательные программы начального общего, основного общего, среднего общего образования, и организаций дополнительного образования детей | D75: Управление образования г.Десногорска | E75: Областной бюджет | F75: =G75+H75+I75 -> 2771.7 | G75: 923.9 | H75: 923.9 | I75: 923.9
B76: Итого по комплексу процессных мероприятий | D76: х | E76: х | F76: =F75 -> 2771.7 | G76: =G75 -> 923.9 | H76: =H75 -> 923.9 | I76: =I75 -> 923.9
B77: 12. | C77: Комплекс процессных мероприятий 11. "Обеспечение деятельности органов местного самоуправления" | D77: х | E77: х | F77: х | G77: х | H77: х | I77: х
C78: Мероприятие 1 Расходы на обеспечение функций органов местного самоуправления | D78: Управление образования г.Десногорска | E78: Местный бюджет | F78: =G78+H78+I78 -> 17224 | G78: 6370.4 | H78: 5426.8 | I78: 5426.8
B79: Итого по комплексу процессных мероприятий | D79: х | E79: х | F79: =F78 -> 17224 | G79: =G78 -> 6370.4 | H79: =H78 -> 5426.8 | I79: =I78 -> 5426.8
B80: 13. | C80: Комплекс процессных мероприятий 12. "Капитальный и текущий ремонт зданий и сооружений" | D80: Муниципальные бюджетные образовательные учреждения | E80: х | F80: х | G80: х | H80: х | I80: х
C81: Мероприятие 1Расходы на укрепление материально-технической базы муниципальных учреждений | D81: Муниципальные бюджетные образовательные учреждения | E81: Местный бюджет | F81: =G81+H81+I81 -> 5270.9 | G81: 5270.9 | H81: 0 | I81: 0
B82: Итого по комплексу процессных мероприятий | D82: х | E82: х | F82: =F81 -> 5270.9 | G82: =G81 -> 5270.9 | H82: =H81 -> 0 | I82: =I81 -> 0
B83: 14 | C83: Комплекс процессных мероприятий 13. "Совершенствование системы устройства детей-сирот и детей, оставшихся без попечения родителей, на воспитание в семьи" | D83: Муниципальные бюджетные образовательные учреждения | E83: х | F83: х | G83: х | H83: х | I83: х
C84: Мероприятие 1. Расходы на обеспечение дополнительных гарантий по социальной поддержке детей-сирот и детей, оставшихся без попечения родителей, а также лиц из числа детей-сирот и детей, оставшихся без попечения родителей | D84: Муниципальные бюджетные образовательные учреждения | E84: Местный бюджет | F84: =G84+H84+I84 -> 69.1 | G84: 69.1 | H84: 0 | I84: 0
B87: Итого по комплексу процессных мероприятий | D87: х | E87: х | F87: =F84 -> 69.1 | G87: =G84 -> 69.1 | H87: =H85 -> 0 | I87: =I85 -> 0
B88: Всего по муниципальной программе, в том числе: | F88: =G88+H88+I88 -> 1991114.5 | G88: =G84+G79+G76+G73+G67+G62+G59+G52+G47+G44+G41+G32+G82 -> 634048.5 | H88: =H87+H79+H76+H73+H67+H62+H59+H52+H47+H44+H41+H32 -> 725305.7 | I88: =I32+I41+I44+I47+I52+I59+I62+I73+I79+I76+I87+I67 -> 631760.3
B89: федеральный бюджет | F89: =G89+H89+I89 -> 199595.6 | G89: =G16+G28+G29+G31+G64+G19 -> 45551.4 | H89: =H16+H28+H29+H31+H64+H19 -> 123369.3 | I89: =I16+I28+I29+I31+I64 -> 30674.9
B90: областной бюджет | F90: =G90+H90+I90 -> 1082539.6 | G90: =G17+G30+G38+G39+G40+G43+G51+G56+G61+G75+G57+G65+G24+G20+G22 -> 337250.3 | H90: =H17+H30+H38+H39+H40+H43+H51+H56+H61+H75+H57+H65+H20+H22+H24 -> 376930.2 | I90: =I17+I30+I38+I39+I40+I43+I51+I56+I61+I75+I57+I65+I20+I22+I24 -> 368359.1
B91: местные бюджеты | F91: =G91+H91+I91 -> 708979.3 | G91: =G46++G49+G50+G54+G55+G69+G70+G71+G72+G78+G86+G18+G58+G66+G25+G84+G23+G21+G81 -> 251246.8 | H91: =H46++H49+H50+H54+H55+H69+H70+H71+H72+H78+H85+H18+H58+H66+H21+H23+H25 -> 225006.2 | I91: =I46+I49+I50+I54+I55+I58+I66+I69+I70+I71+I72+I78+I25 -> 232726.3
B92: внебюджетные источники | F92: х | G92: х | H92: х | I92: х
G94: 634048.5 | H94: 725305.7 | I94: 631760.3

Sheet Суммы МП
B1: Общ | C1: мест | D1: фед | E1: обл
A2: Всего | B2: =SUM(B5:B15) -> 4419574.5 | C2: =SUM(C5:C15) -> 1574219.1 | D2: =SUM(D5:D15) -> 232290.2 | E2: =SUM(E5:E15) -> 2613065.2 | F2: =B2-C2-D2-E2 -> 0 | H2: Этап 2013-2021
A3: Год | B3: Общий объем (тыс.руб.) | C3: из них за счет средств (тыс.руб.): | H3: Общий объем финансирования | I3: =SUM(B5:B12) -> 2428460 | J3: тыс. рублей, из них:
C4: МБ | D4: ФБ | E4: обл | H4: средства федерального бюджета | I4: =SUM(D5:D12) -> 32694.6 | J4: тыс. рублей, из них:
A5: 2014 | B5: 273928.1 | C5: 95628.5 | D5: 0 | E5: 178299.6 | H5: средства областного бюджета – | I5: =SUM(E5:E12) -> 1530525.6 | J5: тыс. рублей, из них:
A6: 2015 | B6: 281079.8 | C6: 104786.7 | D6: 0 | E6: 176293.1 | H6: средства местного бюджета – | I6: =SUM(C5:C12) -> 865239.8 | J6: тыс. рублей, из них:
A7: 2016 | B7: 291785.8 | C7: 113468.2 | D7: 0 | E7: 178317.6 | H7: средства внебюджетных источников – 0 тыс. рублей.
A8: 2017 | B8: 277682.4 | C8: 103199.3 | D8: 0 | E8: 174483.1
A9: 2018 | B9: 298118.7 | C9: 94987.9 | D9: 0 | E9: 203130.8 | H9: Этап 2022-2024
A10: 2019 | B10: 302496 | C10: 111334.3 | D10: 0 | E10: 191161.7 | H10: Общий объем финансирования | I10: =SUM(B13:B15) -> 1991114.5 | J10: тыс. рублей, из них:
A11: 2020 | B11: 335847.8 | C11: 114459.9 | D11: 9869.3 | E11: 211518.6 | H11: средства федерального бюджета | I11: =SUM(D13:D15) -> 199595.6 | J11: тыс. рублей, из них:
A12: 2021 | B12: 367521.4 | C12: 127375 | D12: 22825.3 | E12: 217321.1 | H12: средства областного бюджета – | I12: =SUM(E13:E15) -> 1082539.6 | J12: тыс. рублей, из них:
A13: 2022 | B13: ='Сведения о фин-ии'!G88 -> 634048.5 | C13: ='Сведения о фин-ии'!G91 -> 251246.8 | D13: ='Сведения о фин-ии'!G89 -> 45551.4 | E13: ='Сведения о фин-ии'!G90 -> 337250.3 | F13: =B13-C13-D13-E13 -> 0 | H13: средства местного бюджета – | I13: =SUM(C13:C15) -> 708979.3 | J13: тыс. рублей, из них:
A14: 2023 | B14: ='Сведения о фин-ии'!H88 -> 725305.7 | C14: ='Сведения о фин-ии'!H91 -> 225006.2 | D14: ='Сведения о фин-ии'!H89 -> 123369.3 | E14: ='Сведения о фин-ии'!H90 -> 376930.2 | F14: =B14-C14-D14-E14 -> 0 | H14: средства внебюджетных источников – 0 тыс. рублей.
A15: 2024 | B15: ='Сведения о фин-ии'!I88 -> 631760.3 | C15: ='Сведения о фин-ии'!I91 -> 232726.3 | D15: ='Сведения о фин-ии'!I89 -> 30674.9 | E15: ='Сведения о фин-ии'!I90 -> 368359.1 | F15: =B15-C15-D15-E15 -> 0
A16: Всего: | B16: =SUM(B5:B15) -> 4419574.5 | C16: =SUM(C5:C15) -> 1574219.1 | D16: =SUM(D5:D15) -> 232290.2 | E16: =SUM(E5:E15) -> 2613065.2
H18: Наименование муниципальной программы, структурного элемента / источник финансового обеспечения | I18: Всего | J18: Объем финансового обеспечения по годам реализации (тыс. рублей)
J19: очередной финансо-вый год 2022 | K19: 1-й год планового периода 2023 | L19: 2-й год планового периода 2024
H20: 1 | I20: 2 | J20: 3 | K20: 4 | L20: 5
H21: Муниципальная программа «Развитие образования в муниципальном образовании «город Десногорск» Смоленской области» (всего), в том числе: | I21: =SUM(J21:L21) -> 1991114.5 | J21: =B13 -> 634048.5 | K21: =B14 -> 725305.7 | L21: =B15 -> 631760.3
H22: федеральный бюджет | I22: =SUM(J22:L22) -> 199595.6 | J22: =D13 -> 45551.4 | K22: =D14 -> 123369.3 | L22: =D15 -> 30674.9
H23: областной бюджет | I23: =SUM(J23:L23) -> 1082539.6 | J23: =E13 -> 337250.3 | K23: =E14 -> 376930.2 | L23: =E15 -> 368359.1
H24: местный бюджет | I24: =SUM(J24:L24) -> 708979.3 | J24: =C13 -> 251246.8 | K24: =C14 -> 225006.2 | L24: =C15 -> 232726.3
