Workbook

Sheet Сведения о фин-ии
G1: Приложение к постановлению Администрации
G2: муниципального образования "город
G3: Десногорск" Смоленской области от
G4: __28.07.2026_____________ № __724__
B6: Раздел 6 «Сведения о финансировании структурных элементов муниципальной программы»
B7: СВЕДЕНИЯ о финансировании структурных элементов муниципальной программы
B8: «Развитие образования в муниципальном образовании «город Десногорск» Смоленской области»
B9: (наименование муниципальной программы)
B11: № п/п | C11: Наименование | D11: Участник муниципальной программы | E11: Источник финансового обеспечения (расшифро-вать) | F11: Объем средств на реализацию муниципальной программы на очередной финансовый год и плановый период (тыс. рублей)
F12: всего | G12: очередной финансовый год 2026 | H12: 1-й год планового периода 2027 | I12: 2-й год планового периода 2028
B13: 1 | C13: 2 | D13: 3 | E13: 4 | F13: 5 | G13: 6 | H13: 7 | I13: 8
C14: Региональный проект "Все лучшее детям" | D14: х | E14: х | F14: х | G14: х | H14: х | I14: х
C15: Результат 1 Увеличение численности детей, обучающихся по предметным областям "Физика", "Музыка", "Изобразительное искусство" на обновленной материально-технической базе | D15: х | E15: х | F15: х | G15: х | H15: х | I15: х
C16: Мероприятие 1.1.Оснащение предметных кабинетов общеобразовательных организаций средствами обучения и воспитания | D16: Муниципальные бюджетные образовательные учреждения | E16: Федеральный бюджет | F16: =G16+H16+I16 -> 0 | G16: 0 | H16: 0 | I16: 0
E17: Областной бюджет | F17: =G17+H17+I17 -> 0 | G17: 0 | H17: 0 | I17: 0
E18: Местный бюджет | F18: =G18+H18+I18 -> 0 | G18: 0 | H18: 0 | I18: 0
C19: Мероприятие 1.2. Мероприятия по модернизации школьных систем образования | E19: Федеральный бюджет | F19: =G19+H19+I19 -> 106663.4 | G19: 13766.7 | H19: 92896.7 | I19: 0
E20: Областной бюджет | F20: =G20+H20+I20 -> 27426.4 | G20: 4202.2 | H20: 23224.2 | I20: 0
E21: Местный бюджет | F21: =G21+H21+I21 -> 134.1 | G21: 17.9 | H21: 116.2 | I21: 0
C22: Мероприятие 1.3. Капитальный ремонт зданий муниципальных образовательных организаций в рамках модернизации школьных систем образования | E22: Областной бюджет | F22: =G22+H22+I22 -> 16973.2 | G22: 8486.6 | H22: 8486.6 | I22: 0
E23: Местный бюджет | F23: =G23+H23+I23 -> 893.4 | G23: 446.7 | H23: 446.7 | I23: 0
C24: Мероприятие 1.4. Оснащение общеобразовательных организаций оборудованием, средствами обучения и воспитания | E24: Областной бюджет | F24: =G24+H24+I24 -> 3563.7 | G24: 1187.9 | H24: 1187.9 | I24: 1187.9
E25: Местный бюджет | F25: =G25 -> 62.5 | G25: 62.5 | H25: 62.5 | I25: 62.5
C26: Региональный проект "Педагоги и наставники" | D26: х | E26: х | F26: х | G26: х | H26: х | I26: х
C27: Результат 1 Проведение мероприятий по обеспечению деятельности советников директора по воспитанию и взаимодействию с детскими общественными объединениями в общеобразовательных организациях | D27: х | E27: х | F27: х | G27: х | H27: х | I27: х
C28: Мероприятие 1.1. Выплаты ежемесячного денежного вознаграждения советникам директоров по воспитанию и взаимодействию с детскими общественными объединениями образовательных организаций | D28: Муниципальные бюджетные образовательные учреждения | E28: Федеральный бюджет | F28: =G28+H28+I28 -> 937.5 | G28: 312.5 | H28: 312.5 | I28: 312.5
C29: Мероприятие 1.2. Обеспечение деятельности советников директора по воспитанию и взаимодействию с детскими общественными объединениями в общеобразовательных организациях | E29: Федеральный бюджет | F29: =G29+H29+I29 -> 3010.1 | G29: 985.6 | H29: 1006 | I29: 1018.5
E30: Областной бюджет | F30: =G30+H30+I30 -> 114.7 | G30: 30.4 | H30: 41.9 | I30: 42.4
C31: Мероприятие 1.3 Ежемесячное денежное вознаграждение за классное руководство педагогическим работникам государственных и муниципальных общеобразовательных организаций | E31: Федеральный бюджет | F31: =G31+H31+I31 -> 54300 | G31: 18100 | H31: 18100 | I31: 18100
C32: Итого по региональному проекту | D32: х | E32: х | F32: =G32+H32+I32 -> 214204 | G32: =G28+G29+G30+G31+G19+G20+G21+G22+G23+G24+G25 -> 47599 | H32: =H28+H29+H30+H31+H19+H20+H21+H22+H23+H24+H25 -> 145881.2 | I32: =I24+I25+I28+I29+I30+I31 -> 20723.8
B33: 2. | C33: Ведомственный проект | D33: х | E33: х | F33: х | G33: х | H33: х | I33: х
C34: Результат 1 | D34: х | E34: х | F34: х | G34: х | H34: х | I34: х
C35: Мероприятие 1.1. | D35: х | E35: х | F35: х | G35: х | H35: х | I35: х
B36: Итого по ведомственному проекту | D36: х | E36: х | F36: х | G36: х | H36: х | I36: х
B37: 3. | C37: Комплекс процессных мероприятий 1. "Развитие эффективных форм работы с семьями" | D37: х | E37: х | F37: х | G37: х | H37: х | I37: х
A38: #214 | C38: Мероприятие 1 Выплаты денежных средств на содержание ребенка, переданного на воспитание в приемную семью | D38: Управление образования г.Десногорска | E38: Областной бюджет | F38: =G38+H38+I38 -> 15103.8 | G38: 5034.6 | H38: 5034.6 | I38: 5034.6
A39: #215 | C39: Мероприятие 2 Выплаты вознаграждения, причитающегося приемным родителям | E39: Областной бюджет | F39: =G39+H39+I39 -> 4961.1 | G39: 1653.7 | H39: 1653.7 | I39: 1653.7
A40: #205 | C40: Мероприятие 3 Выплаты ежемесячных денежных средств на содержание ребенка, находящегося под опекой (попечительством) | E40: Областной бюджет | F40: =G40+H40+I40 -> 12406.5 | G40: 4135.5 | H40: 4135.5 | I40: 4135.5
B41: Итого по комплексу процессных мероприятий | D41: х | E41: х | F41: =SUM(F38:F40) -> 32471.4 | G41: =SUM(G38:G40) -> 10823.8 | H41: =SUM(H38:H40) -> 10823.8 | I41: =SUM(I38:I40) -> 10823.8
B42: 4. | C42: Комплекс процессных мероприятий 2. "Организация и осуществление деятельности по опеке и попечительству" | D42: х | E42: х | F42: х | G42: х | H42: х | I42: х
...

Sheet Суммы МП
B1: Общ | C1: мест | D1: фед | E1: обл
A2: Всего | B2: =SUM(B5:B15) -> 4419574.5 | C2: =SUM(C5:C15) -> 1574219.1 | D2: =SUM(D5:D15) -> 232290.2 | E2: =SUM(E5:E15) -> 2613065.2 | F2: =B2-C2-D2-E2 -> 0 | H2: Этап 2013-2021
A3: Год | B3: Общий объем (тыс.руб.) | C3: из них за счет средств (тыс.руб.): | H3: Общий объем финансирования | I3: =SUM(B5:B12) -> 2428460 | J3: тыс. рублей, из них:
C4: МБ | D4: ФБ | E4: обл | H4: средства федерального бюджета | I4: =SUM(D5:D12) -> 32694.6 | J4: тыс. рублей, из них:
A5: 2014 | B5: 273928.1 | C5: 95628.5 | D5: 0 | E5: 178299.6 | H5: средства областного бюджета – | I5: =SUM(E5:E12) -> 1530525.6 | J5: тыс. рублей, из них:
A6: 2015 | B6: 281079.8 | C6: 104786.7 | D6: 0 | E6: 176293.1 | H6: средства местного бюджета – | I6: =SUM(C5:C12) -> 865239.8 | J6: тыс. рублей, из них:
A7: 2016 | B7: 291785.8 | C7: 113468.2 | D7: 0 | E7: 178317.6 | H7: средства внебюджетных источников – 0 тыс. рублей.
A8: 2017 | B8: 277682.4 | C8: 103199.3 | D8: 0 | E8: 174483.1
A9: 2018 | B9: 298118.7 | C9: 94987.9 | D9: 0 | E9: 203130.8 | H9: Этап 2022-2024
A10: 2019 | B10: 302496 | C10: 111334.3 | D10: 0 | E10: 191161.7 | H10: Общий объем финансирования | I10: =SUM(B13:B15) -> 1991114.5 | J10: тыс. рублей, из них:
A11: 2020 | B11: 335847.8 | C11: 114459.9 | D11: 9869.3 | E11: 211518.6 | H11: средства федерального бюджета | I11: =SUM(D13:D15) -> 199595.6 | J11: тыс. рублей, из них:
A12: 2021 | B12: 367521.4 | C12: 127375 | D12: 22825.3 | E12: 217321.1 | H12: средства областного бюджета – | I12: =SUM(E13:E15) -> 1082539.6 | J12: тыс. рублей, из них:
A13: 2022 | B13: ='Сведения о фин-ии'!G88 -> 634048.5 | C13: ='Сведения о фин-ии'!G91 -> 251246.8 | D13: ='Сведения о фин-ии'!G89 -> 45551.4 | E13: ='Сведения о фин-ии'!G90 -> 337250.3 | F13: =B13-C13-D13-E13 -> 0 | H13: средства местного бюджета – | I13: =SUM(C13:C15) -> 708979.3 | J13: тыс. рублей, из них:
A14: 2023 | B14: ='Сведения о фин-ии'!H88 -> 725305.7 | C14: ='Сведения о фин-ии'!H91 -> 225006.2 | D14: ='Сведения о фин-ии'!H89 -> 123369.3 | E14: ='Сведения о фин-ии'!H90 -> 376930.2 | F14: =B14-C14-D14-E14 -> 0 | H14: средства внебюджетных источников – 0 тыс. рублей.
A15: 2024 | B15: ='Сведения о фин-ии'!I88 -> 631760.3 | C15: ='Сведения о фин-ии'!I91 -> 232726.3 | D15: ='Сведения о фин-ии'!I89 -> 30674.9 | E15: ='Сведения о фин-ии'!I90 -> 368359.1 | F15: =B15-C15-D15-E15 -> 0
A16: Всего: | B16: =SUM(B5:B15) -> 4419574.5 | C16: =SUM(C5:C15) -> 1574219.1 | D16: =SUM(D5:D15) -> 232290.2 | E16: =SUM(E5:E15) -> 2613065.2
H18: Наименование муниципальной программы, структурного элемента / источник финансового обеспечения | I18: Всего | J18: Объем финансового обеспечения по годам реализации (тыс. рублей)
J19: очередной финансо-вый год 2022 | K19: 1-й год планового периода 2023 | L19: 2-й год планового периода 2024
H20: 1 | I20: 2 | J20: 3 | K20: 4 | L20: 5
H21: Муниципальная программа «Развитие образования в муниципальном образовании «город Десногорск» Смоленской области» (всего), в том числе: | I21: =SUM(J21:L21) -> 1991114.5 | J21: =B13 -> 634048.5 | K21: =B14 -> 725305.7 | L21: =B15 -> 631760.3
H22: федеральный бюджет | I22: =SUM(J22:L22) -> 199595.6 | J22: =D13 -> 45551.4 | K22: =D14 -> 123369.3 | L22: =D15 -> 30674.9
H23: областной бюджет | I23: =SUM(J23:L23) -> 1082539.6 | J23: =E13 -> 337250.3 | K23: =E14 -> 376930.2 | L23: =E15 -> 368359.1
H24: местный бюджет | I24: =SUM(J24:L24) -> 708979.3 | J24: =C13 -> 251246.8 | K24: =C14 -> 225006.2 | L24: =C15 -> 232726.3
